BEGIN:VCALENDAR
VERSION:2.0
PRODID:-//Sky Ranch Golf Club - ECPv6.15.20//NONSGML v1.0//EN
CALSCALE:GREGORIAN
METHOD:PUBLISH
X-WR-CALNAME:Sky Ranch Golf Club
X-ORIGINAL-URL:https://skyranchgc.com
X-WR-CALDESC:Events for Sky Ranch Golf Club
REFRESH-INTERVAL;VALUE=DURATION:PT1H
X-Robots-Tag:noindex
X-PUBLISHED-TTL:PT1H
BEGIN:VTIMEZONE
TZID:UTC
BEGIN:STANDARD
TZOFFSETFROM:+0000
TZOFFSETTO:+0000
TZNAME:UTC
DTSTART:20250101T000000
END:STANDARD
END:VTIMEZONE
BEGIN:VEVENT
DTSTART;TZID=UTC:20260613T080000
DTEND;TZID=UTC:20260613T120000
DTSTAMP:20260425T120955
CREATED:20260303T160916Z
LAST-MODIFIED:20260303T161343Z
UID:23263-1781337600-1781352000@skyranchgc.com
SUMMARY:2nd Annual Golf For Hunger
DESCRIPTION:Help us make a difference while supporting Cooperating Ministry of Sterling! Brought to you by Bay State Milling & Clean Dirt Farms. \n\nDate: Saturday\, June 13th\nEntry Fee: $100/ Player\nStart: TBD\n\nPrizes & Awards \n\nLong Drive\nClosest to the Pin\nLongest Putt\nBonus: Putting contest after the tournament.\n\nAll proceeds from this tournament will go directly to the Cooperating Ministry of Logan County Colorado. Committed to serving thousands of Logan County Residents and passionate about what they do. To combat food insecurity\, CMLC offers a full scale food pantry and provides three food assistance programs\, accessible year around. Monday- Friday\, the “Proof is in the pudding” the CMLC food programs assisted 8\,911 individuals in 2025\, and with your help we can assist more individuals in need in 2026. \nRegister to play by clicking HERE
URL:https://skyranchgc.com/event/2nd-annual-golf-for-hunger/
LOCATION:Sky Ranch Golf Club\, 17408 HIGHWAY 14\, STERLING\, CO\, 80751\, United States
ATTACH;FMTTYPE=image/png:https://skyranchgc.com/wp-content/uploads/2026/03/Golf-for-Hunger-1-e1772554127569.png
ORGANIZER;CN="Troy Negrete":MAILTO:tnegrete@bsm.com
END:VEVENT
END:VCALENDAR